BEGIN:VCALENDAR
VERSION:2.0
PRODID:-//Aplinka verslui - ECPv5.16.0//NONSGML v1.0//EN
CALSCALE:GREGORIAN
METHOD:PUBLISH
X-WR-CALNAME:Aplinka verslui
X-ORIGINAL-URL:https://aplinkaverslui.lt
X-WR-CALDESC:Aplinka verslui renginiai
REFRESH-INTERVAL;VALUE=DURATION:PT1H
X-Robots-Tag:noindex
X-PUBLISHED-TTL:PT1H
BEGIN:VTIMEZONE
TZID:Europe/Helsinki
BEGIN:DAYLIGHT
TZOFFSETFROM:+0200
TZOFFSETTO:+0300
TZNAME:EEST
DTSTART:20230326T010000
END:DAYLIGHT
BEGIN:STANDARD
TZOFFSETFROM:+0300
TZOFFSETTO:+0200
TZNAME:EET
DTSTART:20231029T010000
END:STANDARD
END:VTIMEZONE
BEGIN:VEVENT
DTSTART;TZID=Europe/Helsinki:20231009T130000
DTEND;TZID=Europe/Helsinki:20231009T150000
DTSTAMP:20260424T154847
CREATED:20231003T102540Z
LAST-MODIFIED:20231003T103648Z
UID:3666-1696856400-1696863600@aplinkaverslui.lt
SUMMARY:Tiek kiek reikia
DESCRIPTION:Ne kartą Aplinkoje kalbėjome apie tai\, kaip svarbu vadovui pažinti savo verslą ir ugdytis verslo kompetencijas. Taip pat kaip nepulti į kitą kraštutinumą skęstant teorinėse žiniose „didesnėse“ už valdomą verslą. Ir kaip svarbu išmanyti tiek kiek reikia TAU ir TAVO verslui. \nKaip vadovui išlikti vadovu\, netampant visų sričių ekspertu? Kaip susikalbėti srities specialistui ir vadovui\, tam kad jiems rūpintis verslas klestėtų? Kur yra tas aukso vidurys\, kas yra tas „TIEK KIEK REIKIA“? \nŠiose laisvo pobūdžio diskusijose dalyvaus verslo sričių ekspertai bei vadovai. Kiti aplinkiečiai kviečiami dalyvauti klausytojo teisėmis.  \nMaloniai kviečiu pasikeisti požiūriais\, plėsti akiratį\, susitikti ir atrasti bendrą\, o gal savo „tiek kiek reikia“.
URL:https://aplinkaverslui.lt/renginys/tiek-tiek-reikia/
LOCATION:Online
ATTACH;FMTTYPE=image/jpeg:https://aplinkaverslui.lt/wp-content/uploads/2023/10/randy-tarampi-Y05TMi8ZFHA-unsplash-scaled.jpg
ORGANIZER;CN="Egl%C4%97":MAILTO:aplinkaverslui@gmail.com
END:VEVENT
END:VCALENDAR